BEGIN:VCALENDAR
VERSION:2.0
PRODID:-//Acme Widgets\, Inc.//NONSGML ExportToCalendar//EN
CALSCALE:GREGORIAN
BEGIN:VEVENT
DTSTAMP:20260422T033226Z
UID:7498805e-a9d2-4627-b1a6-786b610ddb6c
DTSTART;TZID="(GMT+01:00) Zagreb":20260423T190000
DTEND;TZID="(GMT+01:00) Zagreb":20260423T205400
DESCRIPTION:Nakon savršenog izlaska s dečkom\, Kenna čini nepodnošljivu
  pogrešku zbog koje završava u zatvoru. Sedam godina kasnije\, Kenna se 
 vraća u svoj rodni grad u Wyomingu\, nadajući se da će ponovno izgradit
 i svoj život i zaslužiti priliku da se ponovno sastane sa svojom malom k
 ćeri Diem\, koju nikada nije upoznala. Kada Diemini baka i djed koji su j
 oj skrbnici uporno odbijaju Kennine pokušaje da vidi kćer\, Kenna otkriv
 a neočekivane osjećaje\, a zatim i nešto istinitije i dublje\, s bivši
 m NFL igračem i vlasnikom lokalnog bara Ledgerom. Kako se njihova tajna r
 omansa razvija\, tako rastu i opasnosti za oboje\, vodeći Kennu prema slo
 mljenom srcu i\, u konačnici\, nadi za drugu priliku.
LOCATION:Dubrava 51a\, 10040\, Zagreb
SUMMARY:Uspomene na njega
URL;VALUE=URI:https://www.kinoholik.hr/film/uspomene-na-njega
END:VEVENT
END:VCALENDAR
