BEGIN:VCALENDAR
VERSION:2.0
PRODID:-//Acme Widgets\, Inc.//NONSGML ExportToCalendar//EN
CALSCALE:GREGORIAN
BEGIN:VEVENT
DTSTAMP:20260424T051120Z
UID:6c12639d-06cf-4450-bc02-2a0014ad24bd
DTSTART;TZID="(GMT+01:00) Zagreb":20260509T100000
DTEND;TZID="(GMT+01:00) Zagreb":20260509T111700
DESCRIPTION:Amélie\, belgijsko dijete u Japanu\, istražuje život sa svoj
 om partnericom Nishio-san. Njezin treći rođendan postaje prekretnica\, o
 značavajući početak događaja koji mijenjaju život i oblikuju njezino 
 razumijevanje svijeta.
LOCATION:Kordunska ulica 1\, Zagreb
SUMMARY:Mala Amelie
URL;VALUE=URI:https://www.kinoholik.hr/film/mala-amelie
END:VEVENT
END:VCALENDAR
