BEGIN:VCALENDAR
VERSION:2.0
PRODID:-//Acme Widgets\, Inc.//NONSGML ExportToCalendar//EN
CALSCALE:GREGORIAN
BEGIN:VEVENT
DTSTAMP:20260421T124610Z
UID:cb1924d9-85ed-4edd-bcdb-2f0116f9495a
DTSTART;TZID="(GMT+01:00) Zagreb":20260423T150000
DTEND;TZID="(GMT+01:00) Zagreb":20260423T161600
DESCRIPTION:Maryam je pobjegla iz Irana u dobi od dvadeset godina\, umotana
  u ovčju kožu\, skrivena među stadom koje prelazi planinsku granicu izm
 eđu Irana i Turske. Revolucija je upravo pobijedila\, a njezini političk
 i aktivni prijatelji zatvoreni su ili pogubljeni. Napustila je Iran – i 
 nikada se nije vratila. Uz pomoć prijatelja Maryam postavlja nadzorne kam
 ere u kuću gdje još uvijek žive njezini roditelji: treperava veza s pro
 šlošću\, projicirana na ekranu u njezinom američkom domu. Kada se inte
 rnet u Iranu prekine\, slike se zamrzavaju ili nestaju\, prekidajući Mary
 aminu vezu s domovinom. Prošlost i sadašnjost stapaju se i zamagljuju. 
 \nFilm je osvojio glavnu nagradu u natjecateljskom programu Envision Među
 narodnog festivala dokumentarnog filma u Amsterdamu – IDFA 2025. godine.
LOCATION:Nova Ves 17\, 10000\, Zagreb
SUMMARY:Prošla nesvršena budućnost
URL;VALUE=URI:https://www.kinoholik.hr/film/prosla-nesvrsena-buducnost
END:VEVENT
END:VCALENDAR
