BEGIN:VCALENDAR
VERSION:2.0
PRODID:-//Acme Widgets\, Inc.//NONSGML ExportToCalendar//EN
CALSCALE:GREGORIAN
BEGIN:VEVENT
DTSTAMP:20260422T033038Z
UID:4f52f68b-3b6c-4477-8d91-dd4fb1942a0c
DTSTART;TZID="(GMT+01:00) Zagreb":20260423T160000
DTEND;TZID="(GMT+01:00) Zagreb":20260423T173200
DESCRIPTION:Često ismijavana kao tek adolescentski problem\, ljubavna bol 
 postaje tema ovog dokumentarca. Redatelj i njegov snimatelj uranjaju u mah
 nite noći novoodbačenih – noći pune boli i suza\, ali i budnosti i kr
 eativnosti. Antropologinja Helen Fisher istražuje zapanjujuće procese ko
 ji se odvijaju u mozgu zaljubljenih. 
LOCATION:Nova Ves 17\, 10000\, Zagreb
SUMMARY:Besani u New Yorku
URL;VALUE=URI:https://www.kinoholik.hr/film/besani-u-new-yorku
END:VEVENT
END:VCALENDAR
