BEGIN:VCALENDAR
VERSION:2.0
PRODID:-//Acme Widgets\, Inc.//NONSGML ExportToCalendar//EN
CALSCALE:GREGORIAN
BEGIN:VEVENT
DTSTAMP:20260423T040608Z
UID:213307c4-a51e-440a-abac-5569ff6fed2c
DTSTART;TZID="(GMT+01:00) Zagreb":20260424T150000
DTEND;TZID="(GMT+01:00) Zagreb":20260424T150600
DESCRIPTION:Pedro Tomás istražuje svijet iz svoje jedinstvene perspektive
  i objašnjava sve što vidi: džunglu\, patke\, Boga i cvijeće. Također
  zastaje kako bi promatrao neobičnu crnu pustinju koja je ostala nakon er
 upcije vulkana Cumbre Vieja na njegovu rodnom otoku La Palmi.\nFilm je pri
 kazan u programu Međunarodnog festivala dokumentarnog filma u Amsterdamu 
 – IDFA 2025. godine.
LOCATION:Nova Ves 17\, 10000\, Zagreb
SUMMARY:Pedro Tomás objašnjava svijet
URL;VALUE=URI:https://www.kinoholik.hr/film/pedro-tomas-objasnjava-svijet
END:VEVENT
END:VCALENDAR
