BEGIN:VCALENDAR
VERSION:2.0
PRODID:-//Acme Widgets\, Inc.//NONSGML ExportToCalendar//EN
CALSCALE:GREGORIAN
BEGIN:VEVENT
DTSTAMP:20260422T033226Z
UID:fea2a2a0-0499-48ac-98a4-b162a609c6e6
DTSTART;TZID="(GMT+01:00) Zagreb":20260424T173000
DTEND;TZID="(GMT+01:00) Zagreb":20260424T184400
DESCRIPTION:Nakon što postane tata\, Luka odluči poraditi na odnosu sa sv
 ojim ocem. Kako bi otkrili davno zakopane probleme\, zajedno kreću u istr
 aživanje obiteljskog mita o potencijalnom srodstvu s holivudskom legendom
 . U pratnji neočekivane mješavine sporednih likova poput starog farmera\
 , dvojnika Johna Malkovicha\, svećenika i voditelja podcasta\, otac i sin
  prolaze sela\, gradove i zemlje pitajući se konstantno - je li bilo pame
 tnije sve i dalje držati pod tepihom.
LOCATION:Nova Ves 17\, 10000\, Zagreb
SUMMARY:Biti u rodu s Johnom Malkovichem
URL;VALUE=URI:https://www.kinoholik.hr/film/biti-u-rodu-s-johnom-malkoviche
 m
END:VEVENT
END:VCALENDAR
