BEGIN:VCALENDAR
VERSION:2.0
PRODID:-//Acme Widgets\, Inc.//NONSGML ExportToCalendar//EN
CALSCALE:GREGORIAN
BEGIN:VEVENT
DTSTAMP:20260422T045617Z
UID:abda6882-94a8-4cdb-aba2-a513685d9806
DTSTART;TZID="(GMT+01:00) Zagreb":20260425T120000
DTEND;TZID="(GMT+01:00) Zagreb":20260425T130500
DESCRIPTION:Anong se vratio kući u Laos u pratnji redatelja Tsaija Ming-li
 anga. Stada su lutala\, vjetar je njihao drveće\, a svjetla su treperila 
 pod vodom. U ovoj ničijoj zemlji\, napuštene kuće stajale su nijemo –
  no svaka je kao da je imala drugačije lice\, tiho pričajući svoju pri
 ču. Kamkorder. Kamera. I nastao je film. 
LOCATION:Nova Ves 17\, 10000\, Zagreb
SUMMARY:Opet kod kuće
URL;VALUE=URI:https://www.kinoholik.hr/film/opet-kod-kuce
END:VEVENT
END:VCALENDAR
