BEGIN:VCALENDAR
VERSION:2.0
PRODID:-//Acme Widgets\, Inc.//NONSGML ExportToCalendar//EN
CALSCALE:GREGORIAN
BEGIN:VEVENT
DTSTAMP:20260424T035602Z
UID:e7b3840a-3e25-4cbe-9768-9e948cfc4f84
DTSTART;TZID="(GMT+01:00) Zagreb":20260425T173000
DTEND;TZID="(GMT+01:00) Zagreb":20260425T174700
DESCRIPTION:Priča o 88-godišnjoj seoskoj mađarskoj baki čija je glavna 
 želja da se sutra ne probudi. Kad se Martin\, njezin filmski unuk iseljen
 ik\, vrati u nadi da će se ponovno povezati s bakom\, film se razvija kao
  intimno\, ali i neobično promišljanje o otpornosti i propadanju\, klasn
 om jazu koji ih dijeli i brizi koja ih povezuje.
LOCATION:Nova Ves 17\, 10000\, Zagreb
SUMMARY:Omama
URL;VALUE=URI:https://www.kinoholik.hr/film/omama
END:VEVENT
END:VCALENDAR
