BEGIN:VCALENDAR
VERSION:2.0
PRODID:-//Acme Widgets\, Inc.//NONSGML ExportToCalendar//EN
CALSCALE:GREGORIAN
BEGIN:VEVENT
DTSTAMP:20260424T034200Z
UID:dac50cbd-bcd5-4adf-b73e-7f5618c21b7e
DTSTART;TZID="(GMT+01:00) Zagreb":20260425T190000
DTEND;TZID="(GMT+01:00) Zagreb":20260425T204200
DESCRIPTION:Na pacifičkoj obali Meksika\, u zemlji koju je Ina Marija odab
 rala za svoj dom prije prerane smrti\, njen otac i mlađa sestra Una kreć
 u na putovanje slijedeći njezine stope. Tamo\, usred izvanredne i otporne
  prirode mangrova – u laguni kojom huje uragani\, ali se vječno ponovno
  rađa – oni kreću na putovanje nježnim područjima žalosti. 
LOCATION:Nova Ves 17\, 10000\, Zagreb
SUMMARY:Laguna
URL;VALUE=URI:https://www.kinoholik.hr/film/laguna
END:VEVENT
END:VCALENDAR
