BEGIN:VCALENDAR
VERSION:2.0
PRODID:-//Acme Widgets\, Inc.//NONSGML ExportToCalendar//EN
CALSCALE:GREGORIAN
BEGIN:VEVENT
DTSTAMP:20260424T034456Z
UID:43cc64c9-e244-4019-9558-b9a776ce0d8a
DTSTART;TZID="(GMT+01:00) Zagreb":20260425T200000
DTEND;TZID="(GMT+01:00) Zagreb":20260425T220200
DESCRIPTION:Krivica objektivno i smireno pokazuje kako su pandemija i namje
 rno uzgajanje mitova i priča bez činjeničnog uporišta pomogli Trumpu d
 a ponovno postane predsjednik te zašto će krajnje desničarski pokreti i
 mati uspjeha i u cijeloj Europi. S ekskluzivnim pristupom trojici znanstve
 nika – Linfi Wang\, Zhengli Shi i Peteru Daszaku – čija su upozorenja
  i predviđanja o pandemiji uglavnom promaknula širem svijetu\, film istr
 ažuje zašto smo toliko podložni i zatravljeni senzacionalističkim nara
 tivima. 
LOCATION:Nova Ves 17\, 10000\, Zagreb
SUMMARY:Krivica
URL;VALUE=URI:https://www.kinoholik.hr/film/krivica
END:VEVENT
END:VCALENDAR
