BEGIN:VCALENDAR
VERSION:2.0
PRODID:-//Acme Widgets\, Inc.//NONSGML ExportToCalendar//EN
CALSCALE:GREGORIAN
BEGIN:VEVENT
DTSTAMP:20260421T040445Z
UID:2ecbb055-ab22-451b-9bbf-c8b3c1ccf93e
DTSTART;TZID="(GMT+01:00) Zagreb":20260507T180000
DTEND;TZID="(GMT+01:00) Zagreb":20260507T193000
DESCRIPTION:Krajem 1980-ih grupa navijača Dinama i Hajduka kreće u Beogra
 d na utakmicu između Crvene zvezde i Dinama. Nakon utakmice dolazi do na
 vijačkih obračuna\, a na beogradskim ulicama nastaje pravi rat. Najveć
 a drama za Dinamove navijače bit će kako se probiti do vlaka koji će ih
  vratiti u Zagreb.
LOCATION:MSU\, Avenija Dubrovnik 17\, Zagreb
SUMMARY:ZG80
URL;VALUE=URI:https://www.kinoholik.hr/film/zg80
END:VEVENT
END:VCALENDAR
