BEGIN:VCALENDAR
VERSION:2.0
PRODID:-//Acme Widgets\, Inc.//NONSGML ExportToCalendar//EN
CALSCALE:GREGORIAN
BEGIN:VEVENT
DTSTAMP:20260424T033804Z
UID:f5e3128c-f14d-4fe9-b773-1b8325dc0eee
DTSTART;TZID="(GMT+01:00) Zagreb":20260425T210000
DTEND;TZID="(GMT+01:00) Zagreb":20260425T224000
DESCRIPTION:Priča o ljetnoj ljubavi u obiteljskom kampu tijekom šezdeseti
 h godina. Frances Houseman s roditeljima i starijom sestrom provodi ljetne
  praznike u planinskome odmaralištu. Obiteljska je miljenica i svi očeku
 ju od nje da upiše fakultet i nakon toga nađe pristojna supruga. No\, u 
 kampu joj za oko zapne instruktor plesa Johnny. Nekoliko nesporazuma i ne
 čija ljubomora mladome će paru uzrokovati probleme...
LOCATION:Parkiralište Tržnica Borongaj\, Zagreb
SUMMARY:Prljavi ples
URL;VALUE=URI:https://www.kinoholik.hr/film/prljavi-ples
END:VEVENT
END:VCALENDAR
