BEGIN:VCALENDAR
VERSION:2.0
PRODID:-//Acme Widgets\, Inc.//NONSGML ExportToCalendar//EN
CALSCALE:GREGORIAN
BEGIN:VEVENT
DTSTAMP:20260424T051503Z
UID:c2c2fa27-f2de-43d2-b185-563470e6eebc
DTSTART;TZID="(GMT+01:00) Zagreb":20260430T200000
DTEND;TZID="(GMT+01:00) Zagreb":20260430T215400
DESCRIPTION:Bolujući od zatajenja bubrega\, ujak Boonmee (Thanapat Saisaym
 ar) odlučio je svoje posljednje dane provesti u okruženju bližnjih: ses
 tre pokojne žene Jen (Jenjira Pongpas)\, nećaka Tonga (Sakda Kaewbuadee)
  i medicinskog asistenta Jaaija (Samud Kugasang). Sluteći blizinu smrti\,
  u posjet mu dolazi pokojna žena Huay (Natthakarn Aphaiwonk)\, a kući se
  vraća i davno nestali sin Boonsong (Geerasak Kulhong) u reinkarniranom o
 bličju. Meditirajući o mogućim uzrocima svoje bolesti\, Boonmee se jedn
 og dana u pratnji 'obitelji' odlučuje posjetiti mističnu pećinu\, svoje
  prvo rodno mjesto.
LOCATION:Kordunska ulica 1\, Zagreb
SUMMARY:Ujak Boonmee prisjeća se svojih prošlih života
URL;VALUE=URI:https://www.kinoholik.hr/film/ujak-boonmee-prisjeca-se-svojih
 -proslih-zivota
END:VEVENT
END:VCALENDAR
