BEGIN:VCALENDAR
VERSION:2.0
PRODID:-//Acme Widgets\, Inc.//NONSGML ExportToCalendar//EN
CALSCALE:GREGORIAN
BEGIN:VEVENT
DTSTAMP:20260424T035145Z
UID:89858b49-3be2-4ea1-838f-fd0255d138b9
DTSTART;TZID="(GMT+01:00) Zagreb":20260424T180000
DTEND;TZID="(GMT+01:00) Zagreb":20260424T183100
DESCRIPTION:Dokumentarni esej koji povezuje filmsku medicinsku povijest s g
 eopolitičkim promjenama nakon Hladnog rata i njihovim utjecajem na suvrem
 enu politiku. Film proizlazi iz filmske dijagnoze rijetkog oblika raka\, T
 -staničnog limfoma\, stanja koje uzrokuje zatajenje imunološkog sustava 
 i obrambenih mehanizama tijela. Liječenje se odvija u tri faze: 1. Remisi
 ja stanica raka\; 2. Imunološka transplantacija\; 3. Prilagodba novom imu
 nološkom sustavu. Film usvaja ove tri faze kao okvir za odražavanje rasp
 ada Sovjetskog Saveza\, nakon čega slijedi uvođenje slobodnog tržišnog
  gospodarstva kao novog sustava upravljanja i dugotrajan proces prilagodbe
  obilježen kroničnim nuspojavama. Daleko od tvrdnje da biologija nudi mo
 del savršenog društvenog poretka\, Graft Versus Host koristi medicinsku 
 terminologiju kako bi shvatio složene geopolitičke transformacije nedavn
 e povijesti i slojevite korijene današnje uznemirujuće političke stvarn
 osti.
LOCATION:Preradovićeva ulica 18\, 10 000 Zagreb
SUMMARY:Graft versus Host
URL;VALUE=URI:https://www.kinoholik.hr/film/graft-versus-host
END:VEVENT
END:VCALENDAR
